Workbook

Sheet Cover Sheet
A7: KENTUCKY
E9: 2026 CAPITALIZATION RATE STUDY
A16: =+'S&D'!A12 -> Liquid Transportation Pipeline Carriers
A34: #VALUE!

Sheet Yield CapRate
A1: KENTUCKY DEPARTMENT OF REVENUE
A2: DIVISION OF STATE VALUATION, PUBLIC SERVICE BRANCH
A3: 2026 Tax Year
D10: YIELD CAPITALIZATION RATE CONCLUSION
D16: =+'S&D'!A12 -> Liquid Transportation Pipeline Carriers
B19: Source of | C19: Capital | D19: Cost of Capital | E19: Marginal | F19: Cost of Capital | G19: Weighted
B20: Capital | C20: Structure | D20: Rate | E20: Tax Rate | F20: After Tax | G20: Cost
B23: EQUITY | C23: ='S&D'!I49 -> 0.64 | D23: =+'Indicated Yield Equity Rate'!D51 -> 0.1063 | F23: =+D23 -> 0.1063 | G23: =+F23*C23 -> 0.068032
B25: DEBT | C25: ='S&D'!J49 -> 0.36 | D25: =+Debt!J28 -> 0.0586 | E25: 0.26 | F25: =+D25*(1-E25) -> 0.043364 | G25: =+C25*F25 -> 0.01561104
B27: WACC | C27: =+C23+C25 -> 1 | G27: =+G23+G25 -> 0.08364304
F29: Selected | G29: 0.0836

Sheet Direct CapRates
A1: KENTUCKY DEPARTMENT OF REVENUE
A2: DIVISION OF STATE VALUATION, PUBLIC SERVICE BRANCH
A3: 2026 Tax Year
D11: DIRECT CAPITALIZATION RATE CONCLUSION
D15: =+'S&D'!A12 -> Liquid Transportation Pipeline Carriers
D16: NOI After Tax (NOPAT)
B19: Source of | C19: Capital | D19: Capitalization | E19: Marginal | F19: Capitalization Rate | G19: Weighted
B20: Capital | C20: Structure | D20: Rate | E20: Tax Rate | F20: After Tax | G20: CAP RATE
B23: EQUITY | C23: ='S&D'!I49 -> 0.64 | D23: =+'Direct NOPAT'!J32 -> 0.0923 | E23: - | F23: =+D23 -> 0.0923 | G23: =+F23*C23 -> 0.059072
B25: DEBT | C25: ='S&D'!J49 -> 0.36 | D25: =+Debt!J28 -> 0.0586 | E25: 0.26 | F25: =+D25*(1-E25) -> 0.043364 | G25: =+C25*F25 -> 0.01561104
B27: TOTAL | C27: =+C23+C25 -> 1 | G27: =+G23+G25 -> 0.07468304
F29: Selected | G29: 0.0747
F31: Multiplier | G31: =1/G29 -> 13.386881
A34: KENTUCKY DEPARTMENT OF REVENUE
A35: DIVISION OF STATE VALUATION, PUBLIC SERVICE BRANCH
A36: 2026 Tax Year
D44: DIRECT CAPITALIZATION RATE CONCLUSION
D48: =+D15 -> Liquid Transportation Pipeline Carriers
D49: GCF After Tax
B52: Source of | C52: Capital | D52: Capitalization | E52: Marginal | F52: Capitalization Rate | G52: Weighted
B53: Capital | C53: Structure | D53: Rate | E53: Tax Rate | F53: After Tax | G53: CAP RATE
B56: EQUITY | C56: ='S&D'!I49 -> 0.64 | D56: =+'Direct GCF'!H31 -> 0.15435 | F56: =+D56 -> 0.15435 | G56: =+F56*C56 -> 0.098784
B58: DEBT | C58: ='S&D'!J49 -> 0.36 | D58: =+Debt!J28 -> 0.0586 | E58: 0.26 | F58: =+D58*(1-E58) -> 0.043364 | G58: =+C58*F58 -> 0.01561104
B60: TOTAL | C60: =+C56+C58 -> 1 | G60: =+G56+G58 -> 0.11439504
F62: Selected | G62: 0.1144
F64: Multiplier | G64: =1/G62 -> 8.7412587

Sheet S&D
A1: KENTUCKY DEPARTMENT OF REVENUE
A2: DIVISION OF STATE VALUATION, PUBLIC SERVICE BRANCH
A3: 2026 Tax Year
A12: Liquid Transportation Pipeline Carriers | F12: CAPITAL STRUCTURE
F13: YEAR END 12/31/2025
D16: 4th Qtr | E16: 4th Qtr | F16: 4th Qtr | G16: Year End | H16: Dec. 31, 2025 | I16: Dec. 31, 2025 | J16: Dec. 31, 2025
B17: Ticker | C17: Industry | D17: Stock Price | E17: Stock Price | F17: Average | G17: Dec. 31, 2025 | H17: Common Stock | I17: Preferred Stock | J17: Long Term Debt **
A18: Company | B18: Symbol | C18: Group | D18: High | E18: Low | F18: Stock Price | G18: Stock Price | H18: Shares Outstanding * | I18: General Partner Units | J18: & Finance Leases
H19: Shares Issued less Treasury | I19: Book Value | J19: Book Value
A20: VL | B20: VL | C20: VL | D20: VL | E20: VL | F20: Calculated | G20: VL | H20: 10K / SEC | I20: 10K / SEC | J20: 10K / SEC
A22: Energy Transfer LP | B22: ET | C22: Pipeline MLPs | D22: 17.11 | E22: 16.18 | F22: =AVERAGE(D22,E22) -> 16.645 | G22: 16.49 | H22: 3439986779 | I22: =3356000000 -> 3356000000 | J22: =(25000000+68308000000) -> 68333000000
A23: Enterprise Products Partnership LP | B23: EPD | C23: Pipeline MLPs | D23: 32.95 | E23: 30.01 | F23: =AVERAGE(D23,E23) -> 31.48 | G23: 32.06 | H23: 2161760683 | I23: 44000000 | J23: =32770000000+1625000000 -> 34395000000
A24: Hess Midstream LP | B24: HESM | C24: Pipeline MLPs | D24: 35.2 | E24: 31.63 | F24: =AVERAGE(D24,E24) -> 33.415 | G24: 34.5 | H24: =129403244+78283296 -> 207686540 | J24: =3739500000+32500000 -> 3772000000
A25: MPLX, LP | B25: MPLX | C25: Pipeline MLPs | D25: 56.26 | E25: 47.8 | F25: =AVERAGE(D25,E25) -> 52.03 | G25: 53.37 | H25: =368000000+647000000 -> 1015000000 | J25: =24151000000+1502000000 -> 25653000000
A26: Plains All American Pipeline LP | B26: PAA | C26: Pipeline MLPs | D26: 18.28 | E26: 15.69 | F26: =AVERAGE(D26,E26) -> 16.985 | G26: 17.96 | H26: 705520697 | I26: =1248000000+787000000 -> 2035000000 | J26: =1578000000 -> 1578000000
A27: Western Midstream Partners LP | B27: WES | C27: Pipeline MLPs | D27: 40.57 | E27: 36.9 | F27: =AVERAGE(D27,E27) -> 38.735 | G27: 39.5 | H27: 403205667 | I27: 868978000 | J27: =8195170000 -> 8195170000
D32: Dec. 31, 2025 | E32: Dec. 31, 2025 | F32: Dec. 31, 2025 | G32: Dec. 31, 2025 | H32: Dec. 31, 2025 | I32: Dec. 31, 2025 | J32: Dec. 31, 2025
B33: Ticker | C33: Industry | D33: Common Stock | E33: Preferred Stock *** | F33: Operating Leases **** | G33: Long Term Debt | H33: Total Market Value | I33: % Common Stock | J33: % LT Debt & Pref Stock
A34: Company | B34: Symbol | C34: Group | D34: FMV | E34: FMV | F34: FMV / PV | G34: FMV | H34: CS+LTD +PS + OL | J34: & Op Leases
A35: VL | B35: VL | C35: VL | D35: Calculated | E35: 10K / SEC | F35: 10K / SEC | G35: 10K / SEC | H35: Calculated | I35: Calculated | J35: Calculated
A37: =+A22 -> Energy Transfer LP | B37: =+B22 -> ET | C37: =+C22 -> Pipeline MLPs | D37: =(+H22)*G22 -> 5.6725382e+10 | E37: =(1/1)*I22 -> 3356000000 | F37: =(1515000000+10000000) -> 1525000000 | G37: =(68.55/68.33)*J22 -> 6.855301e+10 | H37: =+D37+E37+F37+G37 -> 1.3015939e+11 | I37: =(+D37)/H37 -> 0.43581474 | J37: =(+E37+F37+G37)/H37 -> 0.56418526
A38: =+A23 -> Enterprise Products Partnership LP | B38: =+B23 -> EPD | C38: =+C23 -> Pipeline MLPs | D38: =(+H23)*G23 -> 6.9306047e+10 | E38: =(1/1)*I23 -> 44000000 | F38: 105000000 | G38: =(32.2/34.1)*J23 -> 3.2478563e+10 | H38: =+D38+E38+F38+G38 -> 1.0193361e+11 | I38: =(+D38)/H38 -> 0.67991359 | J38: =(+E38+F38+G38)/H38 -> 0.32008641
A39: =+A24 -> Hess Midstream LP | B39: =+B24 -> HESM | C39: =+C24 -> Pipeline MLPs | D39: =(+H24)*G24 -> 7165185630 | E39: =(1/1)*I24 -> 0 | G39: =(3832.6/3772)*J24 -> 3832600000 | H39: =+D39+E39+F39+G39 -> 10997785630 | I39: =(+D39)/H39 -> 0.65151167 | J39: =(+E39+F39+G39)/H39 -> 0.34848833
A40: =+A25 -> MPLX, LP | B40: =+B25 -> MPLX | C40: =+C25 -> Pipeline MLPs | D40: =(+H25)*G25 -> 54170550000 | E40: =(1/1)*I25 -> 0 | F40: 53000000 | G40: =(24887/25821)*J25 -> 2.4725077e+10 | H40: =+D40+E40+F40+G40 -> 7.8948627e+10 | I40: =(+D40)/H40 -> 0.68614936 | J40: =(+E40+F40+G40)/H40 -> 0.31385064
A41: =+A26 -> Plains All American Pipeline LP | B41: =+B26 -> PAA | C41: =+C26 -> Pipeline MLPs | D41: =(+H26)*G26 -> 1.2671152e+10 | E41: =(1/1)*I26 -> 2035000000 | F41: 202000000 | G41: =(9/9.2)*J26 -> 1.5436957e+09 | H41: =+D41+E41+F41+G41 -> 1.6451847e+10 | I41: =(+D41)/H41 -> 0.77019628 | J41: =(+E41+F41+G41)/H41 -> 0.22980372
A42: =+A27 -> Western Midstream Partners LP | B42: =+B27 -> WES | C42: =+C27 -> Pipeline MLPs | D42: =(+H27)*G27 -> 1.5926624e+10 | E42: =(1/1)*I27 -> 868978000 | F42: 175421000 | G42: =(8022665/8195170)*J27 -> 8022665000 | H42: =+D42+E42+F42+G42 -> 2.4993688e+10 | I42: =(+D42)/H42 -> 0.63722584 | J42: =(+E42+F42+G42)/H42 -> 0.36277416
H44: High | I44: =MAX(I37:I42) -> 0.77019628 | J44: =MAX(J37:J42) -> 0.56418526
H45: Low | I45: =MIN(I37:I42) -> 0.43581474 | J45: =MIN(J37:J42) -> 0.22980372
H46: Median | I46: =MEDIAN(I37:I42) -> 0.66571263 | J46: =MEDIAN(J37:J42) -> 0.33428737
H47: Mean | I47: =AVERAGE(I37:I42) -> 0.64346858 | J47: =AVERAGE(J37:J42) -> 0.35653142
H49: Selected > | I49: 0.64 | J49: 0.36
A53: Notes:
A54: The capital structure of this industry is a representative or typical capital structure of the group, not that of the present owner. The capital structure selected reflects the most likely arrangement of a prospective buyer.
A56: * Outstanding stock shares are generally already net of Treasury stock shares
A57: ** Debt includes LT Debt , Current portion of LT Debt, and Finance leases from 10K
A58: *** Market value of preferred stock assumed to equal book value
A59: **** Market value of operating leases for all companies including the airlines and railroads
A62: Companies excluded from the study >
A63: AmeriGas Partners (APU) - Primarily engaged in the marketing and distribution of propane. Not applicable to fluid transportation pipeline services.
A64: Andeavor Logistics LP - Removed, Was acquired by MPLX LP on July 30th, 2019. No longer listed on stock indexes.
...

Sheet Market to Book Ratios
A1: KENTUCKY DEPARTMENT OF REVENUE
A2: DIVISION OF STATE VALUATION, PUBLIC SERVICE BRANCH
A3: 2026 Tax Year
A9: =+'S&D'!A12 -> Liquid Transportation Pipeline Carriers | E9: Market to Book Ratios - Obsolescence Measurement
E10: YEAR END 12/31/2025
B17: Ticker | C17: Industry | F17: Market to
B18: Symbol | C18: Group | D18: Common Total Equity | E18: Common Total Equity | F18: Book Ratio
A19: Company | D19: Market Value | E19: Book Value
A20: VL | B20: VL | C20: VL | D20: VL | E20: 10K
A22: =+'S&D'!A22 -> Energy Transfer LP | B22: =+'S&D'!B22 -> ET | C22: =+'S&D'!C22 -> Pipeline MLPs | D22: ='S&D'!D37 -> 5.6725382e+10 | E22: 34366000000 | F22: =+D22/E22 -> 1.6506251
A23: =+'S&D'!A23 -> Enterprise Products Partnership LP | B23: =+'S&D'!B23 -> EPD | C23: =+'S&D'!C23 -> Pipeline MLPs | D23: ='S&D'!D38 -> 6.9306047e+10 | E23: 29739000000 | F23: =+D23/E23 -> 2.3304767
A24: =+'S&D'!A24 -> Hess Midstream LP | B24: =+'S&D'!B24 -> HESM | C24: =+'S&D'!C24 -> Pipeline MLPs | D24: ='S&D'!D39 -> 7165185630 | E24: 568300000 | F24: =+D24/E24 -> 12.608104
A25: =+'S&D'!A25 -> MPLX, LP | B25: =+'S&D'!B25 -> MPLX | C25: =+'S&D'!C25 -> Pipeline MLPs | D25: ='S&D'!D40 -> 54170550000 | E25: 14301000000 | F25: =+D25/E25 -> 3.7878855
A26: =+'S&D'!A26 -> Plains All American Pipeline LP | B26: =+'S&D'!B26 -> PAA | C26: =+'S&D'!C26 -> Pipeline MLPs | D26: ='S&D'!D41 -> 1.2671152e+10 | E26: 9836000000 | F26: =+D26/E26 -> 1.2882423
A27: =+'S&D'!A27 -> Western Midstream Partners LP | B27: =+'S&D'!B27 -> WES | C27: =+'S&D'!C27 -> Pipeline MLPs | D27: ='S&D'!D42 -> 1.5926624e+10 | E27: 4216554000 | F27: =+D27/E27 -> 3.7771659
E28: AVERAGE | F28: =AVERAGE(F22:F27) -> 4.2404166
B34: Ticker | C34: Industry | F34: Market to
B35: Symbol | C35: Group | D35: Long Term Debt | E35: Long Term Debt | F35: Book Ratio
A36: Company | D36: Market Value | E36: Book Value
A37: VL | B37: VL | C37: VL | D37: 10K | E37: 10K
A39: =+A22 -> Energy Transfer LP | B39: =+B22 -> ET | C39: =+C22 -> Pipeline MLPs | D39: =+'S&D'!G37 -> 6.855301e+10 | E39: =+'S&D'!J22 -> 68333000000 | F39: =+D39/E39 -> 1.0032197
A40: =+A23 -> Enterprise Products Partnership LP | B40: =+B23 -> EPD | C40: =+C23 -> Pipeline MLPs | D40: =+'S&D'!G38 -> 3.2478563e+10 | E40: =+'S&D'!J23 -> 34395000000 | F40: =+D40/E40 -> 0.94428152
A41: =+A24 -> Hess Midstream LP | B41: =+B24 -> HESM | C41: =+C24 -> Pipeline MLPs | D41: =+'S&D'!G39 -> 3832600000 | E41: =+'S&D'!J24 -> 3772000000 | F41: =+D41/E41 -> 1.0160657
A42: =+A25 -> MPLX, LP | B42: =+B25 -> MPLX | C42: =+C25 -> Pipeline MLPs | D42: =+'S&D'!G40 -> 2.4725077e+10 | E42: =+'S&D'!J25 -> 25653000000 | F42: =+D42/E42 -> 0.96382789
A43: =+A26 -> Plains All American Pipeline LP | B43: =+B26 -> PAA | C43: =+C26 -> Pipeline MLPs | D43: =+'S&D'!G41 -> 1.5436957e+09 | E43: =+'S&D'!J26 -> 1578000000 | F43: =+D43/E43 -> 0.97826087
A44: =+A27 -> Western Midstream Partners LP | B44: =+B27 -> WES | C44: =+C27 -> Pipeline MLPs | D44: =+'S&D'!G42 -> 8022665000 | E44: =+'S&D'!J27 -> 8195170000 | F44: =+D44/E44 -> 0.97895041
E45: AVERAGE | F45: =AVERAGE(F39:F44) -> 0.98076768
C50: Capital | D50: Market
C51: Structure | D51: to Book | E51: Composite
A52: EQUITY | C52: =+'Yield CapRate'!C23 -> 0.64 | D52: =+F28 -> 4.2404166 | E52: =+C52*D52 -> 2.7138666
A53: DEBT | B53: ='S&D'!I34 | C53: =+'Yield CapRate'!C25 -> 0.36 | D53: =+F45 -> 0.98076768 | E53: =+C53*D53 -> 0.35307637
D54: Total | E54: =+E52+E53 -> 3.066943
A57: A market to book ratio over one would be an indication of no obsolescence.
A58: Common Total Equity excludes 'noncontrolling interests' equity value.

Sheet Maintenance CapEx
A1: KENTUCKY DEPARTMENT OF REVENUE
A2: DIVISION OF STATE VALUATION, PUBLIC SERVICE BRANCH
A3: 2026 Tax Year
A8: =+'S&D'!A12 -> Liquid Transportation Pipeline Carriers | G8: Maintenance Capital Expenditures
G9: Estimate using Guideline Companies
G10: YEAR END 12/31/2025
A14: A | B14: B | C14: C | D14: D | E14: E | F14: F | G14: G | H14: H | I14: I | J14: J | K14: K | L14: L
B15: Ticker | C15: Inflation | D15: PP&E Gross | E15: PP&E Gross | F15: PP&E | G15: Depreciation | H15: Average Life of | I15: * | J15: * | K15: Replacement | L15: RC as % of
A16: Company | B16: Symbol | C16: Rate % | D16: Current Year | E16: Previous Year | F16: Average | G16: Expense | H16: Assets | K16: Cost | L16: Depreciation
A17: VL | B17: VL | C17: CPI | D17: 10K Balance Sheet | E17: 10K Balance Sheet | F17: (D+E)/2 | G17: 10K Income Statement | H17: F/G | I17: C*H | J17: 1/(1=C)^H | K17: (G*I) / (1-J) | L17: K/G
A20: =+'S&D'!A22 -> Energy Transfer LP | B20: =+'S&D'!B22 -> ET | C20: =+'Growth & Inflation Rates '!$D$56 -> 0.0228 | D20: 141283000000 | E20: 129242000000 | F20: =(D20+E20)/2 -> 135262500000 | G20: 5682000000 | H20: =+F20/G20 -> 23.805438 | I20: =+C20*H20 -> 0.54276399 | J20: =1/(1+C20)^H20 -> 0.58469265 | K20: =(G20*I20)/(1-J20) -> 7.4257896e+09 | L20: =+K20/G20 -> 1.3068972
A21: =+'S&D'!A23 -> Enterprise Products Partnership LP | B21: =+'S&D'!B23 -> EPD | C21: =+'Growth & Inflation Rates '!$D$56 -> 0.0228 | D21: =75472000000+225000000 -> 75697000000 | E21: 49062000000 | F21: =(D21+E21)/2 -> 62379500000 | G21: 2087000000 | H21: =+F21/G21 -> 29.889554 | I21: =+C21*H21 -> 0.68148184 | J21: =1/(1+C21)^H21 -> 0.50975297 | K21: =(G21*I21)/(1-J21) -> 2.9010937e+09 | L21: =+K21/G21 -> 1.3900785
A22: =+'S&D'!A24 -> Hess Midstream LP | B22: =+'S&D'!B24 -> HESM | C22: =+'Growth & Inflation Rates '!$D$56 -> 0.0228 | D22: 5374600000 | E22: 3325400000 | F22: =(D22+E22)/2 -> 4350000000 | G22: 214100000 | H22: =+F22/G22 -> 20.317609 | I22: =+C22*H22 -> 0.46324148 | J22: =1/(1+C22)^H22 -> 0.63252253 | K22: =(G22*I22)/(1-J22) -> 2.6989409e+08 | L22: =+K22/G22 -> 1.2605983
A23: =+'S&D'!A25 -> MPLX, LP | B23: =+'S&D'!B25 -> MPLX | C23: =+'Growth & Inflation Rates '!$D$56 -> 0.0228 | D23: 31759000000 | E23: 19154000000 | F23: =(D23+E23)/2 -> 25456500000 | G23: 1351000000 | H23: =+F23/G23 -> 18.842709 | I23: =+C23*H23 -> 0.42961377 | J23: =1/(1+C23)^H23 -> 0.65390751 | K23: =(G23*I23)/(1-J23) -> 1.677032e+09 | L23: =+K23/G23 -> 1.2413265
A24: =+'S&D'!A26 -> Plains All American Pipeline LP | B24: =+'S&D'!B26 -> PAA | C24: =+'Growth & Inflation Rates '!$D$56 -> 0.0228 | D24: 22536000000 | E24: 21300000000 | F24: =(D24+E24)/2 -> 21918000000 | G24: 953000000 | H24: =+F24/G24 -> 22.998951 | I24: =+C24*H24 -> 0.52437608 | J24: =1/(1+C24)^H24 -> 0.59542043 | K24: =(G24*I24)/(1-J24) -> 1.2351845e+09 | L24: =+K24/G24 -> 1.2961012
A25: =+'S&D'!A27 -> Western Midstream Partners LP | B25: =+'S&D'!B27 -> WES | C25: =+'Growth & Inflation Rates '!$D$56 -> 0.0228 | D25: 17648375000 | E25: 15509910000 | F25: =(D25+E25)/2 -> 16579142500 | G25: 710778000 | H25: =+F25/G25 -> 23.325346 | I25: =+C25*H25 -> 0.53181788 | J25: =1/(1+C25)^H25 -> 0.59105526 | K25: =(G25*I25)/(1-J25) -> 9.2434115e+08 | L25: =+K25/G25 -> 1.3004639
K27: High | L27: =MAX(L20:L25) -> 1.3900785
K28: Low | L28: =MIN(L20:L25) -> 1.2413265
K29: Median | L29: =MEDIAN(L20:L25) -> 1.2982826
K30: Mean | L30: =AVERAGE(L20:L25) -> 1.2992442
K32: Selected > | L32: 1.2992
A35: Notes:
A36: *Cornell, B. & Gerger, R. (2017) Estimating Terminal Values with Inflation : The Inputs Matter - It is Not a Formulaic Exercise. Business Valuation Review, Vol.36, Number 4, 117-123.
A38: Property, Plant & Equipment includes CWIP, but should exclude intangibles and the associated amortization.
A40: KENTUCKY DEPARTMENT OF REVENUE
A41: DIVISION OF STATE VALUATION, PUBLIC SERVICE BRANCH
A42: 2026 Tax Year
G47: Maintenance Capital Expenditures and Change in Working Capital
G48: YEAR END 12/31/2025
A53: g = b X ROE | C53: The plowback ratio is multiplied by Net Cash Flow to estimate the amount of additional capital expenditures needed to achieve projected results.
A54: b = g / ROE | C54: It is assumed that the ROE is a fixed (unchanging) rate.
A55: g = LT growth rate
A56: b = reinvestment rate
A57: ROE = Return on equity (or return on investment)
A63: Aswath Damodaran's model to determine the Reinvesment Rate >
A65: Reinvestment Rate = | D65: Capital Expenditures - Depreciation + Change in Working Capital
D66: EBIT (1-Tax Rate)

Sheet Beta for CAPM
A1: KENTUCKY DEPARTMENT OF REVENUE
A2: DIVISION OF STATE VALUATION, PUBLIC SERVICE BRANCH
A3: 2026 Tax Year
A8: =+'S&D'!A12 -> Liquid Transportation Pipeline Carriers
E9: BETA SELECTION for CAPM
E10: YEAR END 12/31/2025
B13: Ticker | C13: Industry | D13: Actual | E13: Return on | F13: Retained to | G13: Financial | H13: Levered Beta
A14: Company | B14: Symbol | C14: Group | D14: Tax Rate | E14: Shareholders Equity | F14: Common Equity | G14: Strength | H14: Current
A15: VL | B15: VL | C15: VL | D15: VL | E15: Vl Projected 2026 | F15: Vl Projected 2026 | G15: VL | H15: Vl Projected 2026
A18: =+'S&D'!A22 -> Energy Transfer LP | B18: =+'S&D'!B22 -> ET | C18: =+'S&D'!C22 -> Pipeline MLPs | D18: 0.08 | E18: 0.14 | F18: 0.5 | G18: B++ | H18: 1.05
A19: =+'S&D'!A23 -> Enterprise Products Partnership LP | B19: =+'S&D'!B23 -> EPD | C19: =+'S&D'!C23 -> Pipeline MLPs | D19: 0.015 | E19: 0.2 | F19: 0.04 | G19: A | H19: 0.85
A20: =+'S&D'!A24 -> Hess Midstream LP | B20: =+'S&D'!B24 -> HESM | C20: =+'S&D'!C24 -> Pipeline MLPs | D20: 0.05 | E20: NMF | F20: NMF | G20: B+ | H20: 0.95
A21: =+'S&D'!A25 -> MPLX, LP | B21: =+'S&D'!B25 -> MPLX | C21: =+'S&D'!C25 -> Pipeline MLPs | D21: 0.03 | E21: 0.345 | F21: 0.07 | G21: B++ | H21: 0.9
A22: =+'S&D'!A26 -> Plains All American Pipeline LP | B22: =+'S&D'!B26 -> PAA | C22: =+'S&D'!C26 -> Pipeline MLPs | D22: 0.03 | E22: 0.135 | F22: NMF | G22: B++ | H22: 1.1
A23: =+'S&D'!A27 -> Western Midstream Partners LP | B23: =+'S&D'!B27 -> WES | C23: =+'S&D'!C27 -> Pipeline MLPs | D23: 0.01 | E23: 0.44 | F23: NMF | G23: B++ | H23: 1.15
G24: High | H24: =+MAX(H18:H23) -> 1.15
G25: Low | H25: =MIN(H18:H23) -> 0.85
G26: Median | H26: =MEDIAN(H18:H23) -> 1
G27: Mean | H27: =AVERAGE(H18:H23) -> 1
G29: Selected | H29: 1
A32: Return on Shareholders Equity -- Annual net profit divided by year-end shareholders equity, expressed as a percentage.
A33: Retained to Common Equity -- Net profit less all common and preferred dividends divided by common equity including intangible assets, expressed as a percentage. Also known as the plowback ratio.

Sheet Dividends 
A1: KENTUCKY DEPARTMENT OF REVENUE
A2: DIVISION OF STATE VALUATION, PUBLIC SERVICE BRANCH
A3: 2026 Tax Year
A6: =+'S&D'!A12 -> Liquid Transportation Pipeline Carriers
E7: Dividend Data
E8: YEAR END 12/31/2025
B10: Ticker | C10: Industry | D10: Stock | E10: Dividends | F10: Dividend | G10: Dividends | H10: Dividend | I10: Dividends | J10: Dividend | K10: Short Term
B11: Symbol | C11: Group | D11: Price | E11: Per Share | F11: Yield | G11: Per Share | H11: Yield | I11: Per Share | J11: Yield | K11: Growth Rate
A12: Company | E12: Historic | F12: Historic | G12: 1 Yr Projected | H12: 1 Yr Projected | I12: 3-5 Yr Projected | J12: 3-5 Yr Projected | K12: (1)
A13: VL | B13: VL | C13: VL | D13: Year End | E13: VL | F13: Calculated | G13: VL | H13: Calculated | I13: VL | J13: Calculated | K13: Calculated
A16: =+'S&D'!A22 -> Energy Transfer LP | B16: =+'S&D'!B22 -> ET | C16: =+'S&D'!C22 -> Pipeline MLPs | D16: =+'S&D'!G22 -> 16.49 | E16: 1.36 | F16: =+E16/D16 -> 0.082474227 | G16: 1.4 | H16: =+G16/D16 -> 0.084899939 | I16: 1.5 | J16: =+I16/D16 -> 0.090964221 | K16: =RATE(3,,-G16,I16) -> 0.023264108
A17: =+'S&D'!A23 -> Enterprise Products Partnership LP | B17: =+'S&D'!B23 -> EPD | C17: =+'S&D'!C23 -> Pipeline MLPs | D17: =+'S&D'!G23 -> 32.06 | E17: 2.24 | F17: =+E17/D17 -> 0.069868996 | G17: 2.32 | H17: =+G17/D17 -> 0.072364317 | I17: 3.8 | J17: =+I17/D17 -> 0.11852776 | K17: =RATE(3,,-G17,I17) -> 0.17877759
A18: =+'S&D'!A24 -> Hess Midstream LP | B18: =+'S&D'!B24 -> HESM | C18: =+'S&D'!C24 -> Pipeline MLPs | D18: =+'S&D'!G24 -> 34.5 | E18: 3.05 | F18: =+E18/D18 -> 0.088405797 | G18: 3.2 | H18: =+G18/D18 -> 0.092753623 | I18: 4 | J18: =+I18/D18 -> 0.11594203 | K18: =RATE(3,,-G18,I18) -> 0.077217345
A19: =+'S&D'!A25 -> MPLX, LP | B19: =+'S&D'!B25 -> MPLX | C19: =+'S&D'!C25 -> Pipeline MLPs | D19: =+'S&D'!G25 -> 53.37 | E19: 4.32 | F19: =+E19/D19 -> 0.080944351 | G19: 4.5 | H19: =+G19/D19 -> 0.084317032 | I19: 5.3 | J19: =+I19/D19 -> 0.099306727 | K19: =RATE(3,,-G19,I19) -> 0.056058035
A20: =+'S&D'!A26 -> Plains All American Pipeline LP | B20: =+'S&D'!B26 -> PAA | C20: =+'S&D'!C26 -> Pipeline MLPs | D20: =+'S&D'!G26 -> 17.96 | E20: 1.67 | F20: =+E20/D20 -> 0.09298441 | G20: 1.8 | H20: =+G20/D20 -> 0.10022272 | I20: 2.5 | J20: =+I20/D20 -> 0.13919822 | K20: =RATE(3,,-G20,I20) -> 0.11572158
A21: =+'S&D'!A27 -> Western Midstream Partners LP | B21: =+'S&D'!B27 -> WES | C21: =+'S&D'!C27 -> Pipeline MLPs | D21: =+'S&D'!G27 -> 39.5 | E21: 3.75 | F21: =+E21/D21 -> 0.094936709 | G21: 3.9 | H21: =+G21/D21 -> 0.098734177 | I21: 4 | J21: =+I21/D21 -> 0.10126582 | K21: =RATE(3,,-G21,I21) -> 0.0084749803
D23: High | E23: =MAX(E16:E21) -> 4.32 | F23: =MAX(F16:F21) -> 0.094936709 | G23: =MAX(G16:G21) -> 4.5 | H23: =MAX(H16:H21) -> 0.10022272 | I23: =MAX(I16:I21) -> 5.3 | J23: =MAX(J16:J21) -> 0.13919822 | K23: =MAX(K16:K21) -> 0.17877759
D24: Low | E24: =MIN(E16:E21) -> 1.36 | F24: =MIN(F16:F21) -> 0.069868996 | G24: =MIN(G16:G21) -> 1.4 | H24: =MIN(H16:H21) -> 0.072364317 | I24: =MIN(I16:I21) -> 1.5 | J24: =MIN(J16:J21) -> 0.090964221 | K24: =MIN(K16:K21) -> 0.0084749803
D25: Median | E25: =MEDIAN(E16:E21) -> 2.645 | F25: =MEDIAN(F16:F21) -> 0.085440012 | G25: =MEDIAN(G16:G21) -> 2.76 | H25: =MEDIAN(H16:H21) -> 0.088826781 | I25: =MEDIAN(I16:I21) -> 3.9 | J25: =MEDIAN(J16:J21) -> 0.10860393 | K25: =MEDIAN(K16:K21) -> 0.06663769
D26: Mean | E26: =AVERAGE(E16:E21) -> 2.7316667 | F26: =AVERAGE(F16:F21) -> 0.084935748 | G26: =AVERAGE(G16:G21) -> 2.8533333 | H26: =AVERAGE(H16:H21) -> 0.088881968 | I26: =AVERAGE(I16:I21) -> 3.5166667 | J26: =AVERAGE(J16:J21) -> 0.11086746 | K26: =AVERAGE(K16:K21) -> 0.076585607
A29: (1) 4 Year compound annual growth rate (CAGR) - 3 periods

Sheet Earnings
A1: KENTUCKY DEPARTMENT OF REVENUE
A2: DIVISION OF STATE VALUATION, PUBLIC SERVICE BRANCH
A3: 2026 Tax Year
A6: =+'S&D'!A12 -> Liquid Transportation Pipeline Carriers
E7: Earnings Data
E8: YEAR END 12/31/2025
B10: Ticker | C10: Industry | D10: Stock | E10: Earnings | F10: Earnings | G10: Earnings | H10: Earnings | I10: Earnings | J10: Earnings | K10: Short Term
B11: Symbol | C11: Group | D11: Price | E11: Per Share | F11: Yield | G11: Per Share | H11: Yield | I11: Per Share | J11: Yield | K11: Growth Rate
A12: Company | E12: Historic | F12: Historic | G12: 1 Yr Projected | H12: 1 Yr Projected | I12: 3-5 Yr Projected | J12: 3-5 Yr Projected | K12: (1)
A13: VL | B13: VL | C13: VL | D13: Year End | E13: VL | F13: Calculated | G13: VL | H13: Calculated | I13: VL | J13: Calculated | K13: Calculated
A16: =+'S&D'!A22 -> Energy Transfer LP | B16: =+'S&D'!B22 -> ET | C16: =+'S&D'!C22 -> Pipeline MLPs | D16: =+'S&D'!G22 -> 16.49 | E16: 1.4 | F16: =+E16/D16 -> 0.084899939 | G16: 1.5 | H16: =+G16/D16 -> 0.090964221 | I16: 2 | J16: =+I16/D16 -> 0.12128563 | K16: =RATE(3,,-G16,I16) -> 0.10064242
A17: =+'S&D'!A23 -> Enterprise Products Partnership LP | B17: =+'S&D'!B23 -> EPD | C17: =+'S&D'!C23 -> Pipeline MLPs | D17: =+'S&D'!G23 -> 32.06 | E17: 2.8 | F17: =+E17/D17 -> 0.087336245 | G17: 3.05 | H17: =+G17/D17 -> 0.095134124 | I17: 3.8 | J17: =+I17/D17 -> 0.11852776 | K17: =RATE(3,,-G17,I17) -> 0.076038769
A18: =+'S&D'!A24 -> Hess Midstream LP | B18: =+'S&D'!B24 -> HESM | C18: =+'S&D'!C24 -> Pipeline MLPs | D18: =+'S&D'!G24 -> 34.5 | E18: 2.9 | F18: =+E18/D18 -> 0.084057971 | G18: 3 | H18: =+G18/D18 -> 0.086956522 | I18: 4 | J18: =+I18/D18 -> 0.11594203 | K18: =RATE(3,,-G18,I18) -> 0.10064242
A19: =+'S&D'!A25 -> MPLX, LP | B19: =+'S&D'!B25 -> MPLX | C19: =+'S&D'!C25 -> Pipeline MLPs | D19: =+'S&D'!G25 -> 53.37 | E19: 5.45 | F19: 0.06 | G19: 6 | H19: =+G19/D19 -> 0.11242271 | I19: 7.3 | J19: =+I19/D19 -> 0.13678096 | K19: =RATE(3,,-G19,I19) -> 0.067555682
A20: =+'S&D'!A26 -> Plains All American Pipeline LP | B20: =+'S&D'!B26 -> PAA | C20: =+'S&D'!C26 -> Pipeline MLPs | D20: =+'S&D'!G26 -> 17.96 | E20: 1.5 | F20: =+E20/D20 -> 0.083518931 | G20: 1.6 | H20: =+G20/D20 -> 0.08908686 | I20: 2.35 | J20: =+I20/D20 -> 0.13084633 | K20: =RATE(3,,-G20,I20) -> 0.13670899
A21: =+'S&D'!A27 -> Western Midstream Partners LP | B21: =+'S&D'!B27 -> WES | C21: =+'S&D'!C27 -> Pipeline MLPs | D21: =+'S&D'!G27 -> 39.5 | E21: 3.65 | F21: =+E21/D21 -> 0.092405063 | G21: 3.9 | H21: =+G21/D21 -> 0.098734177 | I21: 5.4 | J21: =+I21/D21 -> 0.13670886 | K21: =RATE(3,,-G21,I21) -> 0.11457608
C23: High | D23: =MAX(D16:D21) -> 53.37 | E23: =MAX(E16:E21) -> 5.45 | F23: =MAX(F16:F21) -> 0.092405063 | G23: =MAX(G16:G21) -> 6 | H23: =MAX(H16:H21) -> 0.11242271 | I23: =MAX(I16:I21) -> 7.3 | J23: =MAX(J16:J21) -> 0.13678096 | K23: =MAX(K16:K21) -> 0.13670899
C24: Low | D24: =MIN(D16:D21) -> 16.49 | E24: =MIN(E16:E21) -> 1.4 | F24: =MIN(F16:F21) -> 0.06 | G24: =MIN(G16:G21) -> 1.5 | H24: =MIN(H16:H21) -> 0.086956522 | I24: =MIN(I16:I21) -> 2 | J24: =MIN(J16:J21) -> 0.11594203 | K24: =MIN(K16:K21) -> 0.067555682
C25: Median | D25: =MEDIAN(D16:D21) -> 33.28 | E25: =MEDIAN(E16:E21) -> 2.85 | F25: =MEDIAN(F16:F21) -> 0.084478955 | G25: =MEDIAN(G16:G21) -> 3.025 | H25: =MEDIAN(H16:H21) -> 0.093049172 | I25: =MEDIAN(I16:I21) -> 3.9 | J25: =MEDIAN(J16:J21) -> 0.12606598 | K25: =MEDIAN(K16:K21) -> 0.10064242
C26: Mean | D26: =AVERAGE(D16:D21) -> 32.313333 | E26: =AVERAGE(E16:E21) -> 2.95 | F26: =AVERAGE(F16:F21) -> 0.082036358 | G26: =AVERAGE(G16:G21) -> 3.175 | H26: =AVERAGE(H16:H21) -> 0.095549769 | I26: =AVERAGE(I16:I21) -> 4.1416667 | J26: =AVERAGE(J16:J21) -> 0.12668193 | K26: =AVERAGE(K16:K21) -> 0.099360725
A29: (1) 4 Year compound annual growth rate (CAGR) - 3 periods

Sheet Debt
A1: KENTUCKY DEPARTMENT OF REVENUE
A2: DIVISION OF STATE VALUATION, PUBLIC SERVICE BRANCH
A3: 2023 Tax Year
A6: =+'S&D'!A12 -> Liquid Transportation Pipeline Carriers
E7: DEBT RATE for Direct and Yield Approach
E8: YEAR END 12/31/2025
B10: Ticker | C10: Industry | D10: Actual | F10: S & P | G10: Numeric | H10: Moody's Bond | I10: Numeric | J10: Mergent Bond
A11: Company | B11: Symbol | C11: Group | D11: Tax Rate | E11: Strength | F11: Rating | G11: Rating | H11: Rating | I11: Rating | J11: Debt Rate
A12: VL | B12: VL | C12: VL | D12: VL | E12: VL
A15: =+'S&D'!A22 -> Energy Transfer LP | B15: =+'S&D'!B22 -> ET | C15: =+'S&D'!C22 -> Pipeline MLPs | D15: =+'Beta for CAPM'!D18 -> 0.08 | E15: =+'Beta for CAPM'!G18 -> B++ | F15: BBB | G15: 11 | H15: Baa2 | I15: 11 | J15: =VLOOKUP(I15,$B$33:$D$56,3,0) -> 0.059
A16: =+'S&D'!A23 -> Enterprise Products Partnership LP | B16: =+'S&D'!B23 -> EPD | C16: =+'S&D'!C23 -> Pipeline MLPs | D16: =+'Beta for CAPM'!D19 -> 0.015 | E16: =+'Beta for CAPM'!G19 -> A | F16: A- | G16: 9 | H16: A3 | I16: 9 | J16: =VLOOKUP(I16,$B$33:$D$56,3,0) -> 0.0563
A17: =+'S&D'!A24 -> Hess Midstream LP | B17: =+'S&D'!B24 -> HESM | C17: =+'S&D'!C24 -> Pipeline MLPs | D17: =+'Beta for CAPM'!D20 -> 0.05 | E17: =+'Beta for CAPM'!G20 -> B+ | F17: BBB- | G17: 12 | H17: Ba1 | I17: 12 | J17: =VLOOKUP(I17,$B$33:$D$56,3,0) -> 0.059
A18: =+'S&D'!A25 -> MPLX, LP | B18: =+'S&D'!B25 -> MPLX | C18: =+'S&D'!C25 -> Pipeline MLPs | D18: =+'Beta for CAPM'!D21 -> 0.03 | E18: =+'Beta for CAPM'!G21 -> B++ | F18: BBB | G18: 11 | H18: Baa2 | I18: 11 | J18: =VLOOKUP(I18,$B$33:$D$56,3,0) -> 0.059
A19: =+'S&D'!A26 -> Plains All American Pipeline LP | B19: =+'S&D'!B26 -> PAA | C19: =+'S&D'!C26 -> Pipeline MLPs | D19: =+'Beta for CAPM'!D22 -> 0.03 | E19: =+'Beta for CAPM'!G22 -> B++ | F19: BBB | G19: 11 | H19: Baa2 | I19: 11 | J19: =VLOOKUP(I19,$B$33:$D$56,3,0) -> 0.059
A20: =+'S&D'!A27 -> Western Midstream Partners LP | B20: =+'S&D'!B27 -> WES | C20: =+'S&D'!C27 -> Pipeline MLPs | D20: =+'Beta for CAPM'!D23 -> 0.01 | E20: =+'Beta for CAPM'!G23 -> B++ | F20: BBB- | G20: 12 | H20: Baa3 | I20: 12 | J20: =VLOOKUP(I20,$B$33:$D$56,3,0) -> 0.059
E22: High | G22: =MAX(G15:G20) -> 12 | I22: =MAX(I15:I20) -> 12 | J22: =MAX(J15:J20) -> 0.059
E23: Low | G23: =MIN(G15:G20) -> 9 | I23: =MIN(I15:I20) -> 9 | J23: =MIN(J15:J20) -> 0.0563
E24: Median | G24: =MEDIAN(G15:G20) -> 11 | I24: =MEDIAN(I15:I20) -> 11 | J24: =MEDIAN(J15:J20) -> 0.059
E25: Mean | G25: =AVERAGE(G15:G20) -> 11 | I25: =AVERAGE(I15:I20) -> 11 | J25: =AVERAGE(J15:J20) -> 0.05855
H28: Indicated Rate of Debt > | J28: 0.0586
A31: Bond Rating Scale
A32: Moody's Rating | B32: Scale | C32: S&P Rating | D32: Corporate December Avg | E32: Utility December Avg
A33: Aaa1 | B33: 1 | C33: AAA+ | D33: 0.0531 | E33: 0.0531
A34: Aaa2 | B34: 2 | C34: AAA | D34: 0.0531 | E34: 0.0531 | F34: Obligations rated Aaa are judged to be of the highest quality, with minimal risk.
A35: Aaa3 | B35: 3 | C35: AAA- | D35: 0.0531 | E35: 0.0531
A36: Aa1 | B36: 4 | C36: AA+ | D36: 0.0549 | E36: 0.0557
A37: Aa2 | B37: 5 | C37: AA | D37: 0.0549 | E37: 0.0557 | F37: Obligations rated Aa are judged to be of high quality, with minimal risk.
A38: Aa3 | B38: 6 | C38: AA- | D38: 0.0549 | E38: 0.0557
A39: A1 | B39: 7 | C39: A+ | D39: 0.0563 | E39: 0.0568
A40: A2 | B40: 8 | C40: A | D40: 0.0563 | E40: 0.0568 | F40: Obligations rated A are considered upper-medium-grade and are sub­ject to low credit risk.
A41: A3 | B41: 9 | C41: A- | D41: 0.0563 | E41: 0.0568
A42: Baa1 | B42: 10 | C42: BBB+ | D42: 0.059 | E42: 0.0588
A43: Baa2 | B43: 11 | C43: BBB | D43: 0.059 | E43: 0.0588 | F43: Obligations rated Baa are subject to moderate credit risk. They are considered medium-grade and as such may possess speculative characteristics.
A44: Baa3 | B44: 12 | C44: BBB- | D44: 0.059 | E44: 0.0588
A45: Ba1 | B45: 13 | C45: BB+ | D45: 0.0813 | E45: 0.0814
A46: Ba2 | B46: 14 | C46: BB | D46: 0.0813 | E46: 0.0814 | F46: Obligations rated Ba are judged to have speculative elements and are subject to substantial credit risk.
A47: Ba3 | B47: 15 | C47: BB- | D47: 0.0813 | E47: 0.0814
A48: B1 | B48: 16 | C48: B+ | D48: 0.0899 | E48: 0.09
A49: B2 | B49: 17 | C49: B | D49: 0.0899 | E49: 0.09 | F49: Obligations rated B are considered speculative and are subject to high credit risk.
A50: B3 | B50: 18 | C50: B- | D50: 0.0899 | E50: 0.09
...

Sheet Direct GCF
A1: KENTUCKY DEPARTMENT OF REVENUE
A2: DIVISION OF STATE VALUATION, PUBLIC SERVICE BRANCH
A3: 2026 Tax Year
A6: =+'S&D'!A12 -> Liquid Transportation Pipeline Carriers
D9: GCF CASH FLOW MULTIPLE & EQUITY RATE | K9: GCF CASH FLOW MULTIPLE & EQUITY RATE (1 Yr Projected VL)
D10: YEAR END 12/31/2025 | K10: YEAR END 12/31/2025
B12: Ticker | C12: Share | D12: Gross Cash Flow | E12: Gross Cash Flow | F12: Computed | H12: Ticker | I12: Share | J12: Gross Cash Flow | L12: Gross Cash Flow | M12: Computed
A13: Company | B13: Symbol | C13: Price | D13: Per Share | E13: Multiple | F13: Inverse | H13: Symbol | I13: Price | J13: Per Share | L13: Multiple | M13: Inverse
C14: Year End | D14: VL Historic | I14: Year End | J14: VL Projected
A17: =+'S&D'!A22 -> Energy Transfer LP | B17: =+'S&D'!B22 -> ET | C17: =+'S&D'!G22 -> 16.49 | D17: 3 | E17: =C17/D17 -> 5.4966667 | F17: =1/E17 -> 0.18192844 | H17: =+B17 -> ET | I17: =+C17 -> 16.49 | J17: 3.25 | L17: =I17/J17 -> 5.0738462 | M17: =1/L17 -> 0.19708914
A18: =+'S&D'!A23 -> Enterprise Products Partnership LP | B18: =+'S&D'!B23 -> EPD | C18: =+'S&D'!G23 -> 32.06 | D18: 4.2 | E18: =C18/D18 -> 7.6333333 | F18: =1/E18 -> 0.13100437 | H18: =+B18 -> EPD | I18: =+C18 -> 32.06 | J18: 4.6 | L18: =I18/J18 -> 6.9695652 | M18: =1/L18 -> 0.14348097
A19: =+'S&D'!A24 -> Hess Midstream LP | B19: =+'S&D'!B24 -> HESM | C19: =+'S&D'!G24 -> 34.5 | D19: 4.6 | E19: =C19/D19 -> 7.5 | F19: =1/E19 -> 0.13333333 | H19: =+B19 -> HESM | I19: =+C19 -> 34.5 | J19: 4.8 | L19: =I19/J19 -> 7.1875 | M19: =1/L19 -> 0.13913043
A20: =+'S&D'!A25 -> MPLX, LP | B20: =+'S&D'!B25 -> MPLX | C20: =+'S&D'!G25 -> 53.37 | D20: 7 | E20: =C20/D20 -> 7.6242857 | F20: =1/E20 -> 0.13115983 | H20: =+B20 -> MPLX | I20: =+C20 -> 53.37 | J20: 7.65 | L20: =I20/J20 -> 6.9764706 | M20: =1/L20 -> 0.14333895
A21: =+'S&D'!A26 -> Plains All American Pipeline LP | B21: =+'S&D'!B26 -> PAA | C21: =+'S&D'!G26 -> 17.96 | D21: 3.05 | E21: =C21/D21 -> 5.8885246 | F21: =1/E21 -> 0.16982183 | H21: =+B21 -> PAA | I21: =+C21 -> 17.96 | J21: 3.5 | L21: =I21/J21 -> 5.1314286 | M21: =1/L21 -> 0.19487751
A22: =+'S&D'!A27 -> Western Midstream Partners LP | B22: =+'S&D'!B27 -> WES | C22: =+'S&D'!G27 -> 39.5 | D22: 5.5 | E22: =C22/D22 -> 7.1818182 | F22: =1/E22 -> 0.13924051 | H22: =+B22 -> WES | I22: =+C22 -> 39.5 | J22: 5.85 | L22: =I22/J22 -> 6.7521368 | M22: =1/L22 -> 0.14810127
B24: High | C24: =MAX(C17:C22) -> 53.37 | D24: =MAX(D17:D22) -> 7 | E24: =MAX(E17:E22) -> 7.6333333 | F24: =MAX(F17:F22) -> 0.18192844 | I24: =MAX(I17:I22) -> 53.37 | J24: =MAX(J17:J22) -> 7.65 | L24: =MAX(L17:L22) -> 7.1875 | M24: =MAX(M17:M22) -> 0.19708914
B25: Low | C25: =MIN(C17:C22) -> 16.49 | D25: =MIN(D17:D22) -> 3 | E25: =MIN(E17:E22) -> 5.4966667 | F25: =MIN(F17:F22) -> 0.13100437 | I25: =MIN(I17:I22) -> 16.49 | J25: =MIN(J17:J22) -> 3.25 | L25: =MIN(L17:L22) -> 5.0738462 | M25: =MIN(M17:M22) -> 0.13913043
B26: Median | C26: =MEDIAN(C17:C22) -> 33.28 | D26: =MEDIAN(D17:D22) -> 4.4 | E26: =MEDIAN(E17:E22) -> 7.3409091 | F26: =MEDIAN(F17:F22) -> 0.13628692 | H26: Median | I26: =MEDIAN(I17:I22) -> 33.28 | J26: =MEDIAN(J17:J22) -> 4.7 | L26: =MEDIAN(L17:L22) -> 6.860851 | M26: =MEDIAN(M17:M22) -> 0.14579112
B27: Mean | C27: =AVERAGE(C17:C22) -> 32.313333 | D27: =AVERAGE(D17:D22) -> 4.5583333 | E27: =AVERAGE(E17:E22) -> 6.8874381 | F27: =AVERAGE(F17:F22) -> 0.14774805 | H27: Mean | I27: =AVERAGE(I17:I22) -> 32.313333 | J27: =AVERAGE(J17:J22) -> 4.9416667 | L27: =AVERAGE(L17:L22) -> 6.3484912 | M27: =AVERAGE(M17:M22) -> 0.16100305
D29: Selected | E29: 6.89 | F29: 0.1477 | J29: Selected | L29: 6.35 | M29: 0.161
E31: SELECTED AVERAGE > | G31: =(+E29+L29)/2 -> 6.62 | H31: =(+F29+M29)/2 -> 0.15435
A35: Cash flow is typically defined to be net income plus depreciation and amortization.
A36: This measure is considered relevant for companies with high non-cash charges reflected in the income statement. Non-cash charges include depreciation & amortization, goodwill impairments, asset write downs,
A37: stock based compensation, and deferred income taxes and investment tax credits.

Sheet Direct NOPAT
A1: KENTUCKY DEPARTMENT OF REVENUE
A2: DIVISION OF STATE VALUATION, PUBLIC SERVICE BRANCH
A3: 2026 Tax Year
A6: =+'S&D'!A12 -> Liquid Transportation Pipeline Carriers
E8: NOPAT CASH FLOW MULTIPLE & EQUITY RATE | K8: NOPAT CASH FLOW MULTIPLE & EQUITY RATE (1 Yr Projected VL)
E9: YEAR END 12/31/2025 | K9: YEAR END 12/31/2025
C11: Ticker | D11: Share | E11: NOPAT Earnings | F11: NOPAT | G11: Computed | I11: Ticker | J11: Share | K11: NOPAT Earnings | L11: NOPAT | M11: Computed
A12: Company | C12: Symbol | D12: Price | E12: Per Share | F12: Multiple | G12: Inverse | I12: Symbol | J12: Price | K12: Per Share | L12: Multiple | M12: Inverse
D13: Year End | E13: VL Historic | J13: Year End | K13: VL Projected NOI
A16: =+'S&D'!A22 -> Energy Transfer LP | C16: =+'S&D'!B22 -> ET | D16: ='S&D'!G22 -> 16.49 | E16: =+Earnings!E16 -> 1.4 | F16: =D16/E16 -> 11.778571 | G16: =1/F16 -> 0.084899939 | I16: =+C16 -> ET | J16: =+D16 -> 16.49 | K16: =+Earnings!G16 -> 1.5 | L16: =J16/K16 -> 10.993333 | M16: =1/L16 -> 0.090964221
A17: =+'S&D'!A23 -> Enterprise Products Partnership LP | C17: =+'S&D'!B23 -> EPD | D17: ='S&D'!G23 -> 32.06 | E17: =+Earnings!E17 -> 2.8 | F17: =D17/E17 -> 11.45 | G17: =1/F17 -> 0.087336245 | I17: =+C17 -> EPD | J17: =+D17 -> 32.06 | K17: =+Earnings!G17 -> 3.05 | L17: =J17/K17 -> 10.511475 | M17: =1/L17 -> 0.095134124
A18: =+'S&D'!A24 -> Hess Midstream LP | C18: =+'S&D'!B24 -> HESM | D18: ='S&D'!G24 -> 34.5 | E18: =+Earnings!E18 -> 2.9 | F18: =D18/E18 -> 11.896552 | G18: =1/F18 -> 0.084057971 | I18: =+C18 -> HESM | J18: =+D18 -> 34.5 | K18: =+Earnings!G18 -> 3 | L18: =J18/K18 -> 11.5 | M18: =1/L18 -> 0.086956522
A19: =+'S&D'!A25 -> MPLX, LP | C19: =+'S&D'!B25 -> MPLX | D19: ='S&D'!G25 -> 53.37 | E19: =+Earnings!E19 -> 5.45 | F19: =D19/E19 -> 9.7926606 | G19: =1/F19 -> 0.10211729 | I19: =+C19 -> MPLX | J19: =+D19 -> 53.37 | K19: =+Earnings!G19 -> 6 | L19: =J19/K19 -> 8.895 | M19: =1/L19 -> 0.11242271
A20: =+'S&D'!A26 -> Plains All American Pipeline LP | C20: =+'S&D'!B26 -> PAA | D20: ='S&D'!G26 -> 17.96 | E20: =+Earnings!E20 -> 1.5 | F20: =D20/E20 -> 11.973333 | G20: =1/F20 -> 0.083518931 | I20: =+C20 -> PAA | J20: =+D20 -> 17.96 | K20: =+Earnings!G20 -> 1.6 | L20: =J20/K20 -> 11.225 | M20: =1/L20 -> 0.08908686
A21: =+'S&D'!A27 -> Western Midstream Partners LP | C21: =+'S&D'!B27 -> WES | D21: ='S&D'!G27 -> 39.5 | E21: =+Earnings!E21 -> 3.65 | F21: =D21/E21 -> 10.821918 | G21: =1/F21 -> 0.092405063 | I21: =+C21 -> WES | J21: =+D21 -> 39.5 | K21: =+Earnings!G21 -> 3.9 | L21: =J21/K21 -> 10.128205 | M21: =1/L21 -> 0.098734177
C23: High | D23: =MAX(D16:D21) -> 53.37 | E23: =MAX(E16:E21) -> 5.45 | F23: =MAX(F16:F21) -> 11.973333 | G23: =MAX(G16:G21) -> 0.10211729 | I23: High | J23: =MAX(J16:J21) -> 53.37 | K23: =MAX(K16:K21) -> 6 | L23: =MAX(L16:L21) -> 11.5 | M23: =MAX(M16:M21) -> 0.11242271
C24: Low | D24: =MIN(D16:D21) -> 16.49 | E24: =MIN(E16:E21) -> 1.4 | F24: =MIN(F16:F21) -> 9.7926606 | G24: =MIN(G16:G21) -> 0.083518931 | I24: Low | J24: =MIN(J16:J21) -> 16.49 | K24: =MIN(K16:K21) -> 1.5 | L24: =MIN(L16:L21) -> 8.895 | M24: =MIN(M16:M21) -> 0.086956522
C25: Median | D25: =MEDIAN(D16:D21) -> 33.28 | E25: =MEDIAN(E16:E21) -> 2.85 | F25: =MEDIAN(F16:F21) -> 11.614286 | G25: =MEDIAN(G16:G21) -> 0.086118092 | I25: Median | J25: =MEDIAN(J16:J21) -> 33.28 | K25: =MEDIAN(K16:K21) -> 3.025 | L25: =MEDIAN(L16:L21) -> 10.752404 | M25: =MEDIAN(M16:M21) -> 0.093049172
C26: Mean | D26: =AVERAGE(D16:D21) -> 32.313333 | E26: =AVERAGE(E16:E21) -> 2.95 | F26: =AVERAGE(F16:F21) -> 11.285506 | G26: =AVERAGE(G16:G21) -> 0.089055907 | I26: Mean | J26: =AVERAGE(J16:J21) -> 32.313333 | K26: =AVERAGE(K16:K21) -> 3.175 | L26: =AVERAGE(L16:L21) -> 10.542169 | M26: =AVERAGE(M16:M21) -> 0.095549769
E28: Selected | F28: 11.29 | G28: 0.0891 | K28: Selected | L28: 10.54 | M28: 0.0955
G32: SELECTED AVERAGE > | I32: =(+F28+L28)/2 -> 10.915 | J32: =(+G28+M28)/2 -> 0.0923
E37: NOPAT CASH FLOW MULTIPLE & EQUITY RATE (LT 25-27 Yr Projected VL)
E38: YEAR END 12/31/2025
C40: Ticker | D40: Share | E40: NOPAT Earnings | F40: NOPAT | G40: Computed
A41: Company | C41: Symbol | D41: Price | E41: Per Share | F41: Multiple | G41: Inverse
D42: Year End | E42: VL LT Projected NOI
A45: =+'S&D'!A22 -> Energy Transfer LP | C45: =+'S&D'!B22 -> ET | D45: ='S&D'!G22 -> 16.49 | E45: =+Earnings!I16 -> 2 | F45: =D45/E45 -> 8.245 | G45: =1/F45 -> 0.12128563
A46: =+'S&D'!A23 -> Enterprise Products Partnership LP | C46: =+'S&D'!B23 -> EPD | D46: ='S&D'!G23 -> 32.06 | E46: =+Earnings!I17 -> 3.8 | F46: =D46/E46 -> 8.4368421 | G46: =1/F46 -> 0.11852776
A47: =+'S&D'!A24 -> Hess Midstream LP | C47: =+'S&D'!B24 -> HESM | D47: ='S&D'!G24 -> 34.5 | E47: =+Earnings!I18 -> 4 | F47: =D47/E47 -> 8.625 | G47: =1/F47 -> 0.11594203
A48: =+'S&D'!A25 -> MPLX, LP | C48: =+'S&D'!B25 -> MPLX | D48: ='S&D'!G25 -> 53.37 | E48: =+Earnings!I19 -> 7.3 | F48: =D48/E48 -> 7.3109589 | G48: =1/F48 -> 0.13678096
A49: =+'S&D'!A26 -> Plains All American Pipeline LP | C49: =+'S&D'!B26 -> PAA | D49: ='S&D'!G26 -> 17.96 | E49: =+Earnings!I20 -> 2.35 | F49: =D49/E49 -> 7.6425532 | G49: =1/F49 -> 0.13084633
A50: =+'S&D'!A27 -> Western Midstream Partners LP | C50: =+'S&D'!B27 -> WES | D50: ='S&D'!G27 -> 39.5 | E50: =+Earnings!I21 -> 5.4 | F50: =D50/E50 -> 7.3148148 | G50: =1/F50 -> 0.13670886
D52: High | E52: =MAX(E45:E50) -> 7.3 | F52: =MAX(F45:F50) -> 8.625 | G52: =MAX(G45:G50) -> 0.13678096
D53: Low | E53: =MIN(E45:E50) -> 2 | F53: =MIN(F45:F50) -> 7.3109589 | G53: =MIN(G45:G50) -> 0.11594203
D54: Median | E54: =MEDIAN(E45:E50) -> 3.9 | F54: =MEDIAN(F45:F50) -> 7.9437766 | G54: =MEDIAN(G45:G50) -> 0.12606598
D55: Mean | E55: =AVERAGE(E45:E50) -> 4.1416667 | F55: =AVERAGE(F45:F50) -> 7.9291948 | G55: =AVERAGE(G45:G50) -> 0.12668193
E57: Selected | F57: 7.93 | G57: 0.1267

Sheet CAPM
A1: KENTUCKY DEPARTMENT OF REVENUE
A2: DIVISION OF STATE VALUATION, PUBLIC SERVICE BRANCH
A3: 2026 Tax Year
A6: =+'S&D'!A12 -> Liquid Transportation Pipeline Carriers
E7: CAPITAL ASSET PRICING MODEL (CAPM)
E8: YEAR END 12/31/2025
A11: KE = Rf + (B X ERP)
A12: CAPM Models | B12: Equity Risk Premium (ERP) | C12: Industry Beta (B) | D12: Industry Risk Premium | E12: Risk Free Rate (Rf) | F12: Indicated Equity Rate
A14: Three Stage Ex Ante Version 1 (1) | B14: 0.0294 | C14: =+'Beta for CAPM'!H29 -> 1 | D14: =+B14*C14 -> 0.0294 | E14: =+'Growth & Inflation Rates '!$G$24 -> 0.0481 | F14: =+D14+E14 -> 0.0775
A15: Three Stage Ex Ante Version 2 (2) | B15: 0.0298 | C15: =+C14 -> 1 | D15: =+B15*C15 -> 0.0298 | E15: =+'Growth & Inflation Rates '!$G$24 -> 0.0481 | F15: =+D15+E15 -> 0.0779
A17: Damodaran Implied ERP Ex Ante Trailing 12 mo Cash Yield (3) | B17: 0.0423 | C17: =+C14 -> 1 | D17: =+B17*C17 -> 0.0423 | E17: =+'Growth & Inflation Rates '!$G$24 -> 0.0481 | F17: =+D17+E17 -> 0.0904
A18: Damodaran Implied ERP Ex Ante Avg CF Yield Last 10 Yrs (3) | B18: 0.0618 | C18: =+C14 -> 1 | D18: =+B18*C18 -> 0.0618 | E18: =+'Growth & Inflation Rates '!$G$24 -> 0.0481 | F18: =+D18+E18 -> 0.1099
A19: Damodaran Implied ERP Ex Ante Net Cash Yield (3) | B19: 0.0396 | C19: =+C14 -> 1 | D19: =+B19*C19 -> 0.0396 | E19: =+'Growth & Inflation Rates '!$G$24 -> 0.0481 | F19: =+D19+E19 -> 0.0877
A20: Damodaran Implied ERP Ex Ante Norm. Earnings & Payout (3) | B20: 0.0362 | C20: =+C14 -> 1 | D20: =+B20*C20 -> 0.0362 | E20: =+'Growth & Inflation Rates '!$G$24 -> 0.0481 | F20: =+D20+E20 -> 0.0843
A22: The CFO Survey (4) | B22: 0.0561 | C22: =+C14 -> 1 | D22: =+B22*C22 -> 0.0561 | E22: =+'Growth & Inflation Rates '!$G$24 -> 0.0481 | F22: =+D22+E22 -> 0.1042
A24: P. Fernandez, T. Garcia de Santos & J.F.Acin (5) | B24: 0.055 | C24: =+C14 -> 1 | D24: =+B24*C24 -> 0.055 | E24: =+'Growth & Inflation Rates '!$G$24 -> 0.0481 | F24: =+D24+E24 -> 0.1031
A26: BVR - Historical, Arithmetic Mean (6) | B26: 0.0678 | C26: =+C14 -> 1 | D26: =+B26*C26 -> 0.0678 | E26: =+'Growth & Inflation Rates '!$G$24 -> 0.0481 | F26: =+D26+E26 -> 0.1159
A27: BVR - Historical, Geometric Mean (7) | B27: 0.0554 | C27: =+C14 -> 1 | D27: =+B27*C27 -> 0.0554 | E27: =+'Growth & Inflation Rates '!$G$24 -> 0.0481 | F27: =+D27+E27 -> 0.1035
A29: KROLL Ex Post - ERP Historical (8) | B29: 0.0737 | C29: =+C14 -> 1 | D29: =+B29*C29 -> 0.0737 | E29: =+'Growth & Inflation Rates '!$G$24 -> 0.0481 | F29: =+D29+E29 -> 0.1218
A30: KROLL Ex Post - ERP Supply Side (8) | B30: 0.0631 | C30: =+C15 -> 1 | D30: =+B30*C30 -> 0.0631 | E30: =+'Growth & Inflation Rates '!$G$24 -> 0.0481 | F30: =+D30+E30 -> 0.1112
A31: KROLL Ex Ante - ERP Conditional (8) | B31: 0.05 | C31: =+C14 -> 1 | D31: =+B31*C31 -> 0.05 | E31: =+'Growth & Inflation Rates '!$G$24 -> 0.0481 | F31: =+D31+E31 -> 0.0981
A37: KE = Rf + (B X ERP X 75%) = (ERP X 25%)
A38: Empirical CAPM Models | B38: Equity Risk Premium (ERP) | C38: Industry Beta (B) | D38: Weighted Industry Risk Premium (75%) | E38: Weighted Equity Risk Premium (25%) | F38: Risk Free Rate (Rf) | G38: Indicated Equity Rate
A40: Three Stage Ex Ante Version 1 (1) | B40: =+B14 -> 0.0294 | C40: =+C14 -> 1 | D40: =+B40*C40*0.75 -> 0.02205 | E40: =+B40*0.25 -> 0.00735 | F40: =+'Growth & Inflation Rates '!$G$24 -> 0.0481 | G40: =+D40+E40+F40 -> 0.0775
A41: Three Stage Ex Ante Version 2 (2) | B41: =+B15 -> 0.0298 | C41: =+C15 -> 1 | D41: =+B41*C41*0.75 -> 0.02235 | E41: =+B41*0.25 -> 0.00745 | F41: =+'Growth & Inflation Rates '!$G$24 -> 0.0481 | G41: =+D41+E41+F41 -> 0.0779
A43: =+A17 -> Damodaran Implied ERP Ex Ante Trailing 12 mo Cash Yield (3) | B43: =+B17 -> 0.0423 | C43: =+C17 -> 1 | D43: =+B43*C43*0.75 -> 0.031725 | E43: =+B43*0.25 -> 0.010575 | F43: =+'Growth & Inflation Rates '!$G$24 -> 0.0481 | G43: =+D43+E43+F43 -> 0.0904
A44: =+A18 -> Damodaran Implied ERP Ex Ante Avg CF Yield Last 10 Yrs (3) | B44: =+B18 -> 0.0618 | C44: =+C18 -> 1 | D44: =+B44*C44*0.75 -> 0.04635 | E44: =+B44*0.25 -> 0.01545 | F44: =+'Growth & Inflation Rates '!$G$24 -> 0.0481 | G44: =+D44+E44+F44 -> 0.1099
A45: =+A19 -> Damodaran Implied ERP Ex Ante Net Cash Yield (3) | B45: =+B19 -> 0.0396 | C45: =+C19 -> 1 | D45: =+B45*C45*0.75 -> 0.0297 | E45: =+B45*0.25 -> 0.0099 | F45: =+'Growth & Inflation Rates '!$G$24 -> 0.0481 | G45: =+D45+E45+F45 -> 0.0877
A46: =+A20 -> Damodaran Implied ERP Ex Ante Norm. Earnings & Payout (3) | B46: =+B20 -> 0.0362 | C46: =+C20 -> 1 | D46: =+B46*C46*0.75 -> 0.02715 | E46: =+B46*0.25 -> 0.00905 | F46: =+'Growth & Inflation Rates '!$G$24 -> 0.0481 | G46: =+D46+E46+F46 -> 0.0843
A48: The CFO Survey (4) | B48: =+B22 -> 0.0561 | C48: =+C22 -> 1 | D48: =+B48*C48*0.75 -> 0.042075 | E48: =+B48*0.25 -> 0.014025 | F48: =+'Growth & Inflation Rates '!$G$24 -> 0.0481 | G48: =+D48+E48+F48 -> 0.1042
A50: P. Fernandez, T. Garcia de Santos & J.F.Acin (5) | B50: =+B24 -> 0.055 | C50: =+C24 -> 1 | D50: =+B50*C50*0.75 -> 0.04125 | E50: =+B50*0.25 -> 0.01375 | F50: =+'Growth & Inflation Rates '!$G$24 -> 0.0481 | G50: =+D50+E50+F50 -> 0.1031
A52: BVR - Historical, Arithmetic Mean (6) | B52: =+B26 -> 0.0678 | C52: =+C26 -> 1 | D52: =+B52*C52*0.75 -> 0.05085 | E52: =+B52*0.25 -> 0.01695 | F52: =+'Growth & Inflation Rates '!$G$24 -> 0.0481 | G52: =+D52+E52+F52 -> 0.1159
A53: BVR - Historical, Geometric Mean (7) | B53: =+B27 -> 0.0554 | C53: =+C27 -> 1 | D53: =+B53*C53*0.75 -> 0.04155 | E53: =+B53*0.25 -> 0.01385 | F53: =+'Growth & Inflation Rates '!$G$24 -> 0.0481 | G53: =+D53+E53+F53 -> 0.1035
A55: =+A29 -> KROLL Ex Post - ERP Historical (8) | B55: =+B29 -> 0.0737 | C55: =+C29 -> 1 | D55: =+B55*C55*0.75 -> 0.055275 | E55: =+B55*0.25 -> 0.018425 | F55: =+'Growth & Inflation Rates '!$G$24 -> 0.0481 | G55: =+D55+E55+F55 -> 0.1218
A56: =+A30 -> KROLL Ex Post - ERP Supply Side (8) | B56: =+B30 -> 0.0631 | C56: =+C30 -> 1 | D56: =+B56*C56*0.75 -> 0.047325 | E56: =+B56*0.25 -> 0.015775 | F56: =+'Growth & Inflation Rates '!$G$24 -> 0.0481 | G56: =+D56+E56+F56 -> 0.1112
A57: =+A31 -> KROLL Ex Ante - ERP Conditional (8) | B57: =+B31 -> 0.05 | C57: =+C27 -> 1 | D57: =+B57*C57*0.75 -> 0.0375 | E57: =+B57*0.25 -> 0.0125 | F57: =+'Growth & Inflation Rates '!$G$24 -> 0.0481 | G57: =+D57+E57+F57 -> 0.0981
A62: Notes:
A64: (1) Three Stage Dividend Growth Model, S&P 500. The Three Stage Ex Ante calculations were performed by Montana. The Equity risk premiums are shown above.
A65: (2) Three Stage Dividend Growth Model, S&P 500. The Three Stage Ex Ante calculations were performed by Minnesota. The Equity risk premiums are shown above.
A67: (3) Implied Equity Risk Premium on January 2, 2026 as determined by Dr. Aswath Damodaran
...

Sheet Growth & Inflation Rates 
A1: KENTUCKY DEPARTMENT OF REVENUE
A2: DIVISION OF STATE VALUATION, PUBLIC SERVICE BRANCH
A3: 2026 Tax Year
A7: =+'S&D'!A12 -> Liquid Transportation Pipeline Carriers | E7: GROWTH & INFLATION RATES
E8: YEAR END 12/31/2025
A11: SHORT-TERM GROWTH RATES (5 years)
B13: Zacks Investment Research | C13: CFRA S&P Net Advantage | D13: Value Line Earnings | E13: Value Line Dividends | F13: KY DOR Dividends Growth Rate (Median / Average) | G13: KY DOR Earnings Growth Rate (Median / Average) | H13: Yahoo Finance
A15: =+A7 -> Liquid Transportation Pipeline Carriers | F15: =+'Dividends '!K25 -> 0.06663769 | G15: =+Earnings!K25 -> 0.10064242
F16: =+'Dividends '!K26 -> 0.076585607 | G16: =+Earnings!K26 -> 0.099360725
A18: RISK FREE RATE (Rf)
D19: RISK FREE RATE (Rf)
C20: Federal Reserve Statistical Release (January 2, 2026) Treasury Constant Maturities, Nominal (1) :
C21: 10-year U.S. Treasury coupon bonds | D21: 0.0419
C22: 20-year U.S. Treasury coupon bonds | D22: 0.0481
C23: 30-year U.S. Treasury coupon bonds | D23: 0.0486 | G23: KDOR Selected Risk Free Rate (Rf) >
C24: Value Line Investment Survey (January 10, 2026) Selected Yields on Taxable U.S. Treasury Securities : | G24: 0.0481
C25: 10-year U.S. Treasury coupon bonds | D25: 0.0412
C26: 20-year U.S. Treasury coupon bonds | D26: 0
C27: 30-year U.S. Treasury coupon bonds | D27: 0.0483
C28: Damodaran selected Risk-Free rate (January 1, 2026) (7) : | D28: 0.0418
C29: KROLL Cost of Capital Navigator Risk-Free rate Ex Post (January 1, 2026) : | D29: 0.0479
E31: Inflation and Gross Domestic Product (GDP) Data
E32: YEAR END 12/31/2025
A33: INFLATION (CPI) & GROSS DOMESTIC PRODUCT (GDP)
D35: Inflation | E35: Real LT Growth | F35: Nominal
A36: Source | D36: CPI | E36: GDP | F36: Growth
A38: Federal Reserve Statistical Release 10 Yr Inflation protected Treasury securities (1) | D38: 0.0225 | E38: na | F38: na
A39: Federal Reserve Statistical Release 20 Yr Inflation protected Treasury securities (1) | D39: 0.0242 | E39: na | F39: na
A40: Federal Reserve Statistical Release 30 Yr Inflation protected Treasury securities (1) | D40: 0.0223 | E40: na | F40: na
A41: Federal Reserve Bank of Philadelphia / Livingston Survey Mean (2) | D41: 0.0229 | E41: 0.0201 | F41: =+D41+E41 -> 0.043
A42: Federal Reserve Bank of Philadelphia / Livingston Survey Median (2a) | D42: 0.024 | E42: 0.02 | F42: =+D42+E42 -> 0.044
A43: Federal Reserve Bank of Philadelphia /Survey of Professional Forecasters Mean (2b) | D43: 0.0234 | E43: 0.021 | F43: =+D43+E43 -> 0.0444
A44: Congressional Budget Office Real Economic Projections (3) | D44: 0.023 | E44: 0.018 | F44: =+D44+E44 -> 0.041
A45: Congressional Budget Office Real Economic Projections (3a) | D45: 0.023 | E45: 0.021 | F45: =+D45+E45 -> 0.044
A46: Congressional Budget Office Real Economic Projections (3b) | D46: 0.023 | E46: 0.019 | F46: =+D46+E46 -> 0.042
A47: The Trading Economics (4) | D47: 0.023 | E47: 0.021 | F47: =+D47+E47 -> 0.044
A48: The World Bank (5) | D48: na | E48: 0.022 | F48: na
A49: Federal Reserve Bank "Long Term" Projection - Members & Presidents opinion (6) | D49: 0.02 | E49: 0.018 | F49: =+D49+E49 -> 0.038
C50: High | D50: =MAX(D38:D49) -> 0.0242 | E50: =MAX(E38:E49) -> 0.022 | F50: =MAX(F38:F49) -> 0.0444
C51: Low | D51: =MIN(D38:D49) -> 0.02 | E51: =MIN(E38:E49) -> 0.018 | F51: =MIN(F38:F49) -> 0.038
...

Sheet Indicated Yield Equity Rate
A1: KENTUCKY DEPARTMENT OF REVENUE
A2: DIVISION OF STATE VALUATION, PUBLIC SERVICE BRANCH
A3: 2026 Tax Year
A6: =+'S&D'!A12 -> Liquid Transportation Pipeline Carriers
C8: EQUITY RATES for YIELD APPROACH
C9: YEAR END 12/31/2025
D12: Kentucky
C13: MODEL | D13: YIELD EQUITY RATE
C14: CAPM - Ex Ante, Three Stage - V1 | D14: =+CAPM!F14 -> 0.0775
C15: CAPM - Ex Ante, Three Stage - V2 | D15: =+CAPM!F15 -> 0.0779
C16: CAPM - Ex Ante Damodaran 12 Mo Cash Yield | D16: =+CAPM!F17 -> 0.0904
C17: CAPM - Ex Ante Damodaran Avg CF Yield Last 10 Yrs | D17: =+CAPM!F18 -> 0.1099
C18: CAPM - Ex Ante Damodaran Net Cash Yield | D18: =+CAPM!F19 -> 0.0877
C19: CAPM - Ex Ante Damodaran NEP | D19: =+CAPM!F20 -> 0.0843
C20: CAPM - The CFO Survey | D20: =+CAPM!F22 -> 0.1042
C21: CAPM - Fernandez, Banuls, & Acin | D21: =+CAPM!F24 -> 0.1031
C22: CAPM - Ex Post (BVR Historical, Arithmeic) | D22: =+CAPM!F26 -> 0.1159
C23: CAPM - Ex Post (BVR Historical, Geometric) | D23: =+CAPM!F27 -> 0.1035
C24: CAPM - Ex Post KROLL ERP Historical | D24: =+CAPM!F29 -> 0.1218
C25: CAPM - Ex Post KROLL ERP Supply Side | D25: =+CAPM!F30 -> 0.1112
C26: CAPM - Ex Ante KROLL ERP Conditional | D26: =+CAPM!F31 -> 0.0981
C27: Empirical CAPM - Ex Ante, Three Stage - V1 | D27: =+CAPM!G40 -> 0.0775
C28: Empirical CAPM - Ex Ante, Three Stage - V2 | D28: =+CAPM!G41 -> 0.0779
C29: Empirical CAPM - Ex Ante Damodaran 12 Mo Cash Yield | D29: =+CAPM!G43 -> 0.0904
C30: Empirical CAPM - Ex Ante Damodaran Avg CF Yield Last 10 Yrs | D30: =+CAPM!G44 -> 0.1099
C31: Empirical CAPM - Ex Ante Damodaran Net Cash Yield | D31: =+CAPM!G45 -> 0.0877
C32: Empirical CAPM - Ex Ante Damodaran NEP | D32: =+CAPM!G46 -> 0.0843
C33: Empirical CAPM - The CFO Survey | D33: =+CAPM!G48 -> 0.1042
C34: Empirical CAPM - Fernandez, Banuls, & Acin | D34: =+CAPM!G50 -> 0.1031
C35: Empirical CAPM - Ex Post (BVR Historical, Arithmeic) | D35: =+CAPM!G52 -> 0.1159
C36: Empirical CAPM - Ex Post (BVR Historical, Geometric) | D36: =+CAPM!G53 -> 0.1035
C37: Empirical CAPM - Ex Post KROLL ERP Historical | D37: =+CAPM!G55 -> 0.1218
C38: Empirical CAPM - Ex Post KROLL ERP Supply Side | D38: =+CAPM!G56 -> 0.1112
C39: Empirical CAPM - Ex Ante KROLL ERP Conditional | D39: =+CAPM!G57 -> 0.0981
C40: DGM - Single Stage - Dividend Growth | D40: =+'Single Stage Div Growth Model'!I29 -> 0.173
C41: DGM - Single Stage - Earnings Growth | D41: =+'Single Stage Div Growth Model'!I31 -> 0.1747
C42: DGM - Two Stage - Dividend Growth | D42: =+'Two-Stage Div Growth Model'!H33 -> 0.1634
C43: P/E Ratio - Long Term Projection NOPAT | D43: =+'Direct NOPAT'!G57 -> 0.1267
C45: High | D45: =MAX(D14:D42) -> 0.1747
C46: Low | D46: =MIN(D14:D42) -> 0.0775
...

Sheet Single Stage Div Growth Model
A1: KENTUCKY DEPARTMENT OF REVENUE
A2: DIVISION OF STATE VALUATION, PUBLIC SERVICE BRANCH
A3: 2026 Tax Year
A6: =+'S&D'!A12 -> Liquid Transportation Pipeline Carriers
F7: Yield Equity Rate - DGM (Dividend Growth) & DGM (Earnings Growth) -- Gordon Growth
F8: YEAR END 12/31/2025
B10: Ticker | C10: Industry | D10: Stock | F10: Dividend Yield | G10: Projected Short Term | H10: Projected Short Term | I10: Equity Rate | J10: Equity Rate
A11: Company | B11: Symbol | C11: Group | D11: Price (P0) | E11: FMV | F11: Projected 1 Yr | G11: Dividend Growth Rate | H11: Earnings Per Share Growth Rate | I11: Dividend | J11: Earnings
G12: Estimated 21-23 to 27-29 | H12: Estimated 21-23 to 27-29
A13: A | B13: B | C13: C | D13: D | E13: E | F13: F | G13: G | H13: H | I13: (F+G) | J13: (F+H)
A14: VL | B14: VL | C14: VL | D14: Year End | G14: VL | H14: VL | I14: Calculated | J14: Calculated
A17: =+'S&D'!A22 -> Energy Transfer LP | B17: =+'S&D'!B22 -> ET | C17: =+'S&D'!C22 -> Pipeline MLPs | D17: =+'S&D'!G22 -> 16.49 | E17: =+'S&D'!D37 -> 5.6725382e+10 | F17: =+'Dividends '!H16 -> 0.084899939 | G17: 0.045 | H17: 0.07 | I17: =+F17+G17 -> 0.12989994 | J17: =+F17+H17 -> 0.15489994
A18: =+'S&D'!A23 -> Enterprise Products Partnership LP | B18: =+'S&D'!B23 -> EPD | C18: =+'S&D'!C23 -> Pipeline MLPs | D18: =+'S&D'!G23 -> 32.06 | E18: =+'S&D'!D38 -> 6.9306047e+10 | F18: =+'Dividends '!H17 -> 0.072364317 | G18: 0.1 | H18: 0.055 | I18: =+F18+G18 -> 0.17236432 | J18: =+F18+H18 -> 0.12736432
A19: =+'S&D'!A24 -> Hess Midstream LP | B19: =+'S&D'!B24 -> HESM | C19: =+'S&D'!C24 -> Pipeline MLPs | D19: =+'S&D'!G24 -> 34.5 | E19: =+'S&D'!D39 -> 7165185630 | F19: =+'Dividends '!H18 -> 0.092753623 | G19: 0.065 | H19: 0.095 | I19: =+F19+G19 -> 0.15775362 | J19: =+F19+H19 -> 0.18775362
A20: =+'S&D'!A25 -> MPLX, LP | B20: =+'S&D'!B25 -> MPLX | C20: =+'S&D'!C25 -> Pipeline MLPs | D20: =+'S&D'!G25 -> 53.37 | E20: =+'S&D'!D40 -> 54170550000 | F20: =+'Dividends '!H19 -> 0.084317032 | G20: 0.075 | H20: 0.095 | I20: =+F20+G20 -> 0.15931703 | J20: =+F20+H20 -> 0.17931703
A21: =+'S&D'!A26 -> Plains All American Pipeline LP | B21: =+'S&D'!B26 -> PAA | C21: =+'S&D'!C26 -> Pipeline MLPs | D21: =+'S&D'!G26 -> 17.96 | E21: =+'S&D'!D41 -> 1.2671152e+10 | F21: =+'Dividends '!H20 -> 0.10022272 | G21: 0.13 | H21: 0.115 | I21: =+F21+G21 -> 0.23022272 | J21: =+F21+H21 -> 0.21522272
A22: =+'S&D'!A27 -> Western Midstream Partners LP | B22: =+'S&D'!B27 -> WES | C22: =+'S&D'!C27 -> Pipeline MLPs | D22: =+'S&D'!G27 -> 39.5 | E22: =+'S&D'!D42 -> 1.5926624e+10 | F22: =+'Dividends '!H21 -> 0.098734177 | G22: 0.09 | H22: 0.085 | I22: =+F22+G22 -> 0.18873418 | J22: =+F22+H22 -> 0.18373418
E23: High | F23: =MAX(F17:F22) -> 0.10022272 | G23: =MAX(G17:G22) -> 0.13 | H23: =MAX(H17:H22) -> 0.115 | I23: =MAX(I17:I22) -> 0.23022272 | J23: =MAX(J17:J22) -> 0.21522272
E24: Low | F24: =MIN(F17:F22) -> 0.072364317 | G24: =MIN(G17:G22) -> 0.045 | H24: =MIN(H17:H22) -> 0.055 | I24: =MIN(I17:I22) -> 0.12989994 | J24: =MIN(J17:J22) -> 0.12736432
E25: Median | F25: =MEDIAN(F17:F22) -> 0.088826781 | G25: =MEDIAN(G17:G22) -> 0.0825 | H25: =MEDIAN(H17:H22) -> 0.09 | I25: =MEDIAN(I17:I22) -> 0.16584067 | J25: =MEDIAN(J17:J22) -> 0.1815256
E26: Mean | F26: =AVERAGE(F17:F22) -> 0.088881968 | G26: =AVERAGE(G17:G22) -> 0.084166667 | H26: =AVERAGE(H17:H22) -> 0.085833333 | I26: =AVERAGE(I17:I22) -> 0.17304863 | J26: =AVERAGE(J17:J22) -> 0.1747153
G29: DGM - Dividend Growth Rate > | I29: 0.173
G31: DGM - Earnings Growth Rate > | I31: 0.1747
A33: Dividend Growth = DY + DG | C33: Earnings Growth = DY + EG
A34: DY = Dividend Yield | C34: DY = Dividend Yield
A35: DG = Dividend Growth | C35: EG = Earnings Growth
A38: KE = (D1 / Po) + G | C38: KE = (D1 / Po) + G
A40: KE = Cost of Equity | C40: KE = Cost of Equity
A41: D1 = Expected Dividends | C41: D1 = Expected Dividends
A42: Po = Current Price | C42: Po = Current Price
A43: G = Projected Growth (Div. 5 Yr Growth Rate) | C43: G = Projected Growth (Earnings Per Share 5 Yr Growth Rate)

Sheet Two-Stage Div Growth Model
A1: KENTUCKY DEPARTMENT OF REVENUE
A2: DIVISION OF STATE VALUATION, PUBLIC SERVICE BRANCH
A3: 2026 Tax Year
A6: =+'S&D'!A12 -> Liquid Transportation Pipeline Carriers
E9: Yield Equity Rate - DGM (Two-Stage)
E10: YEAR END 12/31/2025
B14: Ticker | C14: Industry | D14: Dividend Yield | E14: Projected Short Term | F14: Stable | G14: Average | H14: Cost of
A15: Company | B15: Symbol | C15: Group | D15: Projected 1 Yr | E15: Earnings Per Share Growth Rate | F15: Growth | G15: Growth Rate | H15: Equity
E16: Estimated 20-22 to 26-28 | G16: (G1 + g)/2 | H16: KE = (DY X (1 + .5(G))) + .67 (G1) + .33(g)
D17: DY | E17: G1 | F17: g | G17: G
D18: VL | E18: VL
A21: =+'S&D'!A22 -> Energy Transfer LP | B21: =+'S&D'!B22 -> ET | C21: =+'S&D'!C22 -> Pipeline MLPs | D21: =+'Dividends '!H16 -> 0.084899939 | E21: =+'Single Stage Div Growth Model'!H17 -> 0.07 | F21: ='Growth & Inflation Rates '!$F$56 -> 0.0429 | G21: =(F21+E21)/2 -> 0.05645 | H21: =D21*(1+(0.5*G21))+(0.67*E21)+(0.33*F21) -> 0.14835324
A22: =+'S&D'!A23 -> Enterprise Products Partnership LP | B22: =+'S&D'!B23 -> EPD | C22: =+'S&D'!C23 -> Pipeline MLPs | D22: =+'Dividends '!H17 -> 0.072364317 | E22: =+'Single Stage Div Growth Model'!H18 -> 0.055 | F22: ='Growth & Inflation Rates '!$F$56 -> 0.0429 | G22: =(F22+E22)/2 -> 0.04895 | H22: =D22*(1+(0.5*G22))+(0.67*E22)+(0.33*F22) -> 0.12514243
A23: =+'S&D'!A24 -> Hess Midstream LP | B23: =+'S&D'!B24 -> HESM | C23: =+'S&D'!C24 -> Pipeline MLPs | D23: =+'Dividends '!H18 -> 0.092753623 | E23: =+'Single Stage Div Growth Model'!H19 -> 0.095 | F23: ='Growth & Inflation Rates '!$F$56 -> 0.0429 | G23: =(F23+E23)/2 -> 0.06895 | H23: =D23*(1+(0.5*G23))+(0.67*E23)+(0.33*F23) -> 0.1737583
A24: =+'S&D'!A25 -> MPLX, LP | B24: =+'S&D'!B25 -> MPLX | C24: =+'S&D'!C25 -> Pipeline MLPs | D24: =+'Dividends '!H19 -> 0.084317032 | E24: =+'Single Stage Div Growth Model'!H20 -> 0.095 | F24: ='Growth & Inflation Rates '!$F$56 -> 0.0429 | G24: =(F24+E24)/2 -> 0.06895 | H24: =D24*(1+(0.5*G24))+(0.67*E24)+(0.33*F24) -> 0.16503086
A25: =+'S&D'!A26 -> Plains All American Pipeline LP | B25: =+'S&D'!B26 -> PAA | C25: =+'S&D'!C26 -> Pipeline MLPs | D25: =+'Dividends '!H20 -> 0.10022272 | E25: =+'Single Stage Div Growth Model'!H21 -> 0.115 | F25: ='Growth & Inflation Rates '!$F$56 -> 0.0429 | G25: =(F25+E25)/2 -> 0.07895 | H25: =D25*(1+(0.5*G25))+(0.67*E25)+(0.33*F25) -> 0.19538601
